BEGIN:VCALENDAR
VERSION:2.0
PRODID:Events Booking
BEGIN:VEVENT
UID:69e73a84b2246
SUMMARY:History network meeting
DESCRIPTION:This meeting is for History Leads who are members of the SWAN A
 lliance.
DTSTART:20241216T153000Z
DTEND:20241216T163000Z
DTSTAMP:20260421T085116Z
ORGANIZER;CN=SWAN Training School Alliance:MAILTO:trainingschool@sponne.org
 .uk
END:VEVENT
END:VCALENDAR