BEGIN:VCALENDAR
VERSION:2.0
PRODID:Events Booking
BEGIN:VEVENT
UID:69e73bcedb9ac
SUMMARY:DT network meeting
DESCRIPTION:This meeting is for DT Leads who are members of the SWAN Allian
 ce.
DTSTART:20250205T153000Z
DTEND:20250205T163000Z
DTSTAMP:20260421T085646Z
ORGANIZER;CN=SWAN Training School Alliance:MAILTO:trainingschool@sponne.org
 .uk
END:VEVENT
END:VCALENDAR